Package: scds Version: 1.20.0 Command: rm -rf scds.buildbin-libdir && mkdir scds.buildbin-libdir && E:\biocbuild\bbs-3.19-bioc\R\bin\R.exe CMD INSTALL --build --library=scds.buildbin-libdir scds_1.20.0.tar.gz StartedAt: 2024-10-17 08:34:59 -0400 (Thu, 17 Oct 2024) EndedAt: 2024-10-17 08:35:36 -0400 (Thu, 17 Oct 2024) EllapsedTime: 37.4 seconds RetCode: 0 Status: OK PackageFile: scds_1.20.0.zip PackageFileSize: 1.101 MiB