Package: scds Version: 1.20.0 Command: chmod a+r scds -R && F:\biocbuild\bbs-3.19-bioc\R\bin\R.exe CMD build --keep-empty-dirs --no-resave-data scds StartedAt: 2024-06-26 21:43:35 -0400 (Wed, 26 Jun 2024) EndedAt: 2024-06-26 21:44:41 -0400 (Wed, 26 Jun 2024) EllapsedTime: 66.2 seconds RetCode: 0 Status: OK PackageFile: scds_1.20.0.tar.gz PackageFileSize: 1.068 MiB