Package: scds Version: 1.20.0 Command: /home/biocbuild/bbs-3.19-bioc/R/bin/R CMD build --keep-empty-dirs --no-resave-data scds StartedAt: 2024-10-16 20:39:31 -0400 (Wed, 16 Oct 2024) EndedAt: 2024-10-16 20:40:41 -0400 (Wed, 16 Oct 2024) EllapsedTime: 70.1 seconds RetCode: 0 Status: OK PackageFile: scds_1.20.0.tar.gz PackageFileSize: 1.348 MiB