Package: scds Version: 1.20.0 Command: /Library/Frameworks/R.framework/Resources/bin/R CMD INSTALL scds StartedAt: 2024-10-16 15:24:56 -0400 (Wed, 16 Oct 2024) EndedAt: 2024-10-16 15:25:49 -0400 (Wed, 16 Oct 2024) EllapsedTime: 53.9 seconds RetCode: 0 Status: OK