Package: scds Version: 1.20.0 Command: /Library/Frameworks/R.framework/Resources/bin/R CMD build --keep-empty-dirs --no-resave-data scds StartedAt: 2024-10-16 22:57:58 -0400 (Wed, 16 Oct 2024) EndedAt: 2024-10-16 23:00:26 -0400 (Wed, 16 Oct 2024) EllapsedTime: 148.6 seconds RetCode: 0 Status: OK PackageFile: scds_1.20.0.tar.gz PackageFileSize: 1.417 MiB