Package: scds Version: 1.20.0 Command: /Library/Frameworks/R.framework/Resources/bin/R CMD build --keep-empty-dirs --no-resave-data scds StartedAt: 2024-10-17 08:33:26 -0400 (Thu, 17 Oct 2024) EndedAt: 2024-10-17 08:34:46 -0400 (Thu, 17 Oct 2024) EllapsedTime: 80.1 seconds RetCode: 0 Status: OK PackageFile: scds_1.20.0.tar.gz PackageFileSize: 1.424 MiB