Package: scds Version: 1.20.0 Command: rm -rf scds.buildbin-libdir && mkdir scds.buildbin-libdir && /Users/biocbuild/BBS/utils/build-universal.sh scds_1.20.0.tar.gz /Library/Frameworks/R.framework/Resources/bin/R scds.buildbin-libdir StartedAt: 2024-10-15 20:08:33 -0400 (Tue, 15 Oct 2024) EndedAt: 2024-10-15 20:09:09 -0400 (Tue, 15 Oct 2024) EllapsedTime: 35.6 seconds RetCode: 0 Status: OK PackageFile: scds_1.20.0.tgz PackageFileSize: 1.455 MiB