Package: scde Version: 2.32.0 Command: chmod a+r scde -R && E:\biocbuild\bbs-3.19-bioc\R\bin\R.exe CMD build --keep-empty-dirs --no-resave-data scde StartedAt: 2024-10-16 21:44:39 -0400 (Wed, 16 Oct 2024) EndedAt: 2024-10-16 21:44:42 -0400 (Wed, 16 Oct 2024) EllapsedTime: 3.0 seconds RetCode: 0 Status: OK PackageFile: scde_2.32.0.tar.gz PackageFileSize: 1.059 MiB