Package: scde Version: 2.32.0 Command: chmod a+r scde -R && F:\biocbuild\bbs-3.19-bioc\R\bin\R.exe CMD build --keep-empty-dirs --no-resave-data scde StartedAt: 2024-06-26 21:43:06 -0400 (Wed, 26 Jun 2024) EndedAt: 2024-06-26 21:43:12 -0400 (Wed, 26 Jun 2024) EllapsedTime: 6.1 seconds RetCode: 0 Status: OK PackageFile: scde_2.32.0.tar.gz PackageFileSize: 1.059 MiB