Package: scde Version: 2.32.0 Command: /home/biocbuild/bbs-3.19-bioc/R/bin/R CMD build --keep-empty-dirs --no-resave-data scde StartedAt: 2024-10-16 20:39:30 -0400 (Wed, 16 Oct 2024) EndedAt: 2024-10-16 20:39:31 -0400 (Wed, 16 Oct 2024) EllapsedTime: 1.0 seconds RetCode: 0 Status: OK PackageFile: scde_2.32.0.tar.gz PackageFileSize: 1.059 MiB