Package: scde Version: 2.32.0 Command: /home/biocbuild/R/R-beta-2024-04-15_r86425/bin/R CMD INSTALL scde StartedAt: 2024-05-08 20:54:01 -0000 (Wed, 08 May 2024) EndedAt: 2024-05-08 20:55:36 -0000 (Wed, 08 May 2024) EllapsedTime: 95.0 seconds RetCode: 0 Status: OK