Package: scde Version: 2.32.0 Command: /home/biocbuild/R/R-beta-2024-04-15_r86425/bin/R CMD check --install=check:scde.install-out.txt --library=/home/biocbuild/R/R-beta-2024-04-15_r86425/site-library --no-vignettes --timings scde_2.32.0.tar.gz StartedAt: 2024-05-09 11:37:52 -0000 (Thu, 09 May 2024) EndedAt: 2024-05-09 11:42:18 -0000 (Thu, 09 May 2024) EllapsedTime: 265.4 seconds RetCode: 0 Status: WARNINGS CheckDir: scde.Rcheck Warnings: 2