Package: scde Version: 2.32.0 Command: /Library/Frameworks/R.framework/Resources/bin/R CMD INSTALL scde StartedAt: 2024-10-16 18:12:14 -0400 (Wed, 16 Oct 2024) EndedAt: 2024-10-16 18:13:06 -0400 (Wed, 16 Oct 2024) EllapsedTime: 52.1 seconds RetCode: 0 Status: OK