Package: scde Version: 2.32.0 Command: /Library/Frameworks/R.framework/Resources/bin/R CMD check --install=check:scde.install-out.txt --library=/Library/Frameworks/R.framework/Resources/library --no-vignettes --timings scde_2.32.0.tar.gz StartedAt: 2024-10-18 11:10:48 -0400 (Fri, 18 Oct 2024) EndedAt: 2024-10-18 11:13:21 -0400 (Fri, 18 Oct 2024) EllapsedTime: 153.4 seconds RetCode: 0 Status: WARNINGS CheckDir: scde.Rcheck Warnings: 3