Package: sccomp Version: 1.8.0 Command: /home/biocbuild/bbs-3.19-bioc/R/bin/R CMD check --install=check:sccomp.install-out.txt --library=/home/biocbuild/bbs-3.19-bioc/R/site-library --timings sccomp_1.8.0.tar.gz StartedAt: 2024-10-17 04:45:47 -0400 (Thu, 17 Oct 2024) EndedAt: 2024-10-17 05:00:47 -0400 (Thu, 17 Oct 2024) EllapsedTime: 899.8 seconds RetCode: 0 Status: OK CheckDir: sccomp.Rcheck Warnings: 0