Package: sccomp
Version: 1.8.0
Command: /Library/Frameworks/R.framework/Resources/bin/R CMD INSTALL sccomp
StartedAt: 2024-06-09 15:16:37 -0400 (Sun, 09 Jun 2024)
EndedAt: 2024-06-09 15:22:57 -0400 (Sun, 09 Jun 2024)
EllapsedTime: 379.8 seconds
RetCode: 0
Status: OK