Package: sccomp Version: 1.8.0 Command: /Library/Frameworks/R.framework/Resources/bin/R CMD check --install=check:sccomp.install-out.txt --library=/Library/Frameworks/R.framework/Resources/library --no-vignettes --timings sccomp_1.8.0.tar.gz StartedAt: 2024-06-11 04:23:19 -0400 (Tue, 11 Jun 2024) EndedAt: 2024-06-11 04:45:22 -0400 (Tue, 11 Jun 2024) EllapsedTime: 1323.2 seconds RetCode: 0 Status: OK CheckDir: sccomp.Rcheck Warnings: 0