Package: scatterHatch Version: 1.10.0 Command: rm -rf scatterHatch.buildbin-libdir && mkdir scatterHatch.buildbin-libdir && E:\biocbuild\bbs-3.19-bioc\R\bin\R.exe CMD INSTALL --build --library=scatterHatch.buildbin-libdir scatterHatch_1.10.0.tar.gz StartedAt: 2024-10-17 08:34:34 -0400 (Thu, 17 Oct 2024) EndedAt: 2024-10-17 08:34:51 -0400 (Thu, 17 Oct 2024) EllapsedTime: 17.7 seconds RetCode: 0 Status: OK PackageFile: scatterHatch_1.10.0.zip PackageFileSize: 1.495 MiB