Package: scatterHatch Version: 1.10.0 Command: rm -rf scatterHatch.buildbin-libdir && mkdir scatterHatch.buildbin-libdir && F:\biocbuild\bbs-3.19-bioc\R\bin\R.exe CMD INSTALL --build --library=scatterHatch.buildbin-libdir scatterHatch_1.10.0.tar.gz StartedAt: 2024-06-27 08:51:53 -0400 (Thu, 27 Jun 2024) EndedAt: 2024-06-27 08:52:06 -0400 (Thu, 27 Jun 2024) EllapsedTime: 12.7 seconds RetCode: 0 Status: OK PackageFile: scatterHatch_1.10.0.zip PackageFileSize: 1.495 MiB