Package: scatterHatch Version: 1.10.0 Command: /home/biocbuild/bbs-3.19-bioc/R/bin/R CMD check --install=check:scatterHatch.install-out.txt --library=/home/biocbuild/bbs-3.19-bioc/R/site-library --timings scatterHatch_1.10.0.tar.gz StartedAt: 2024-10-17 04:43:53 -0400 (Thu, 17 Oct 2024) EndedAt: 2024-10-17 04:45:47 -0400 (Thu, 17 Oct 2024) EllapsedTime: 114.2 seconds RetCode: 0 Status: OK CheckDir: scatterHatch.Rcheck Warnings: 0