Package: scatterHatch Version: 1.10.0 Command: /home/biocbuild/bbs-3.19-bioc/R/bin/R CMD build --keep-empty-dirs --no-resave-data scatterHatch StartedAt: 2024-10-16 20:38:27 -0400 (Wed, 16 Oct 2024) EndedAt: 2024-10-16 20:38:57 -0400 (Wed, 16 Oct 2024) EllapsedTime: 30.1 seconds RetCode: 0 Status: OK PackageFile: scatterHatch_1.10.0.tar.gz PackageFileSize: 3.039 MiB