Package: scatterHatch Version: 1.10.0 Command: /Library/Frameworks/R.framework/Resources/bin/R CMD check --install=check:scatterHatch.install-out.txt --library=/Library/Frameworks/R.framework/Resources/library --no-vignettes --timings scatterHatch_1.10.0.tar.gz StartedAt: 2024-10-17 12:31:36 -0400 (Thu, 17 Oct 2024) EndedAt: 2024-10-17 12:34:56 -0400 (Thu, 17 Oct 2024) EllapsedTime: 200.6 seconds RetCode: 0 Status: OK CheckDir: scatterHatch.Rcheck Warnings: 0