Package: scatterHatch Version: 1.10.0 Command: /Library/Frameworks/R.framework/Resources/bin/R CMD build --keep-empty-dirs --no-resave-data scatterHatch StartedAt: 2024-10-16 22:55:03 -0400 (Wed, 16 Oct 2024) EndedAt: 2024-10-16 22:56:43 -0400 (Wed, 16 Oct 2024) EllapsedTime: 100.1 seconds RetCode: 0 Status: OK PackageFile: scatterHatch_1.10.0.tar.gz PackageFileSize: 3.861 MiB