Package: scatterHatch Version: 1.10.0 Command: rm -rf scatterHatch.buildbin-libdir && mkdir scatterHatch.buildbin-libdir && /Users/biocbuild/BBS/utils/build-universal.sh scatterHatch_1.10.0.tar.gz /Library/Frameworks/R.framework/Resources/bin/R scatterHatch.buildbin-libdir StartedAt: 2024-06-10 00:37:56 -0400 (Mon, 10 Jun 2024) EndedAt: 2024-06-10 00:38:07 -0400 (Mon, 10 Jun 2024) EllapsedTime: 11.3 seconds RetCode: 0 Status: OK PackageFile: scatterHatch_1.10.0.tgz PackageFileSize: 3.902 MiB