Package: scatterHatch Version: 1.10.0 Command: /Library/Frameworks/R.framework/Resources/bin/R CMD build --keep-empty-dirs --no-resave-data scatterHatch StartedAt: 2024-10-17 08:23:43 -0400 (Thu, 17 Oct 2024) EndedAt: 2024-10-17 08:24:42 -0400 (Thu, 17 Oct 2024) EllapsedTime: 58.7 seconds RetCode: 0 Status: OK PackageFile: scatterHatch_1.10.0.tar.gz PackageFileSize: 4.245 MiB