Package: scater Version: 1.32.1 Command: E:\biocbuild\bbs-3.19-bioc\R\bin\R.exe CMD INSTALL scater StartedAt: 2024-10-16 17:11:04 -0400 (Wed, 16 Oct 2024) EndedAt: 2024-10-16 17:11:51 -0400 (Wed, 16 Oct 2024) EllapsedTime: 47.6 seconds RetCode: 0 Status: OK