Package: scater Version: 1.32.1 Command: E:\biocbuild\bbs-3.19-bioc\R\bin\R.exe CMD check --no-multiarch --install=check:scater.install-out.txt --library=E:\biocbuild\bbs-3.19-bioc\R\library --no-vignettes --timings scater_1.32.1.tar.gz StartedAt: 2024-10-17 05:23:39 -0400 (Thu, 17 Oct 2024) EndedAt: 2024-10-17 05:32:42 -0400 (Thu, 17 Oct 2024) EllapsedTime: 543.1 seconds RetCode: 0 Status: OK CheckDir: scater.Rcheck Warnings: 0