Package: scater Version: 1.32.1 Command: chmod a+r scater -R && E:\biocbuild\bbs-3.19-bioc\R\bin\R.exe CMD build --keep-empty-dirs --no-resave-data scater StartedAt: 2024-10-16 21:43:05 -0400 (Wed, 16 Oct 2024) EndedAt: 2024-10-16 21:46:33 -0400 (Wed, 16 Oct 2024) EllapsedTime: 207.8 seconds RetCode: 0 Status: OK PackageFile: scater_1.32.1.tar.gz PackageFileSize: 2.113 MiB