Package: scater Version: 1.32.1 Command: /Library/Frameworks/R.framework/Resources/bin/R CMD INSTALL scater StartedAt: 2024-10-16 16:34:50 -0400 (Wed, 16 Oct 2024) EndedAt: 2024-10-16 16:36:01 -0400 (Wed, 16 Oct 2024) EllapsedTime: 71.1 seconds RetCode: 0 Status: OK