Package: scater Version: 1.32.1 Command: /Library/Frameworks/R.framework/Resources/bin/R CMD build --keep-empty-dirs --no-resave-data scater StartedAt: 2024-10-17 08:22:13 -0400 (Thu, 17 Oct 2024) EndedAt: 2024-10-17 08:26:02 -0400 (Thu, 17 Oct 2024) EllapsedTime: 229.2 seconds RetCode: 0 Status: OK PackageFile: scater_1.32.1.tar.gz PackageFileSize: 4.465 MiB