Package: scater Version: 1.32.1 Command: rm -rf scater.buildbin-libdir && mkdir scater.buildbin-libdir && /Users/biocbuild/BBS/utils/build-universal.sh scater_1.32.1.tar.gz /Library/Frameworks/R.framework/Resources/bin/R scater.buildbin-libdir StartedAt: 2024-10-15 20:06:52 -0400 (Tue, 15 Oct 2024) EndedAt: 2024-10-15 20:07:35 -0400 (Tue, 15 Oct 2024) EllapsedTime: 43.3 seconds RetCode: 0 Status: OK PackageFile: scater_1.32.1.tgz PackageFileSize: 4.72 MiB