Package: scater Version: 1.32.1 Maintainer: Alan O'Callaghan MaintainerEmail: alan.ocallaghan at outlook.com git_url: https://git.bioconductor.org/packages/scater git_branch: RELEASE_3_19 git_last_commit: 0ad51ab git_last_commit_date: 2024-07-18 05:09:46 -0400 (Thu, 18 Jul 2024)