Package: scanMiRApp Version: 1.10.0 Command: chmod a+r scanMiRApp -R && E:\biocbuild\bbs-3.19-bioc\R\bin\R.exe CMD build --keep-empty-dirs --no-resave-data scanMiRApp StartedAt: 2024-10-16 21:42:21 -0400 (Wed, 16 Oct 2024) EndedAt: 2024-10-16 21:43:54 -0400 (Wed, 16 Oct 2024) EllapsedTime: 93.0 seconds RetCode: 0 Status: OK PackageFile: scanMiRApp_1.10.0.tar.gz PackageFileSize: 878.8 KiB