Package: scanMiRApp Version: 1.10.0 Command: rm -rf scanMiRApp.buildbin-libdir && mkdir scanMiRApp.buildbin-libdir && E:\biocbuild\bbs-3.19-bioc\R\bin\R.exe CMD INSTALL --build --library=scanMiRApp.buildbin-libdir scanMiRApp_1.10.0.tar.gz StartedAt: 2024-10-17 08:34:06 -0400 (Thu, 17 Oct 2024) EndedAt: 2024-10-17 08:35:03 -0400 (Thu, 17 Oct 2024) EllapsedTime: 56.7 seconds RetCode: 0 Status: OK PackageFile: scanMiRApp_1.10.0.zip PackageFileSize: 1.31 MiB