Package: scanMiRApp Version: 1.10.0 Command: rm -rf scanMiRApp.buildbin-libdir && mkdir scanMiRApp.buildbin-libdir && F:\biocbuild\bbs-3.19-bioc\R\bin\R.exe CMD INSTALL --build --library=scanMiRApp.buildbin-libdir scanMiRApp_1.10.0.tar.gz StartedAt: 2024-06-27 08:51:39 -0400 (Thu, 27 Jun 2024) EndedAt: 2024-06-27 08:52:46 -0400 (Thu, 27 Jun 2024) EllapsedTime: 67.2 seconds RetCode: 0 Status: OK PackageFile: scanMiRApp_1.10.0.zip PackageFileSize: 1.31 MiB