Package: scanMiRApp Version: 1.10.0 Command: /Library/Frameworks/R.framework/Resources/bin/R CMD build --keep-empty-dirs --no-resave-data scanMiRApp StartedAt: 2024-10-16 22:53:20 -0400 (Wed, 16 Oct 2024) EndedAt: 2024-10-16 22:56:34 -0400 (Wed, 16 Oct 2024) EllapsedTime: 193.3 seconds RetCode: 0 Status: OK PackageFile: scanMiRApp_1.10.0.tar.gz PackageFileSize: 904.7 KiB