Package: scanMiRApp Version: 1.10.0 Command: /Library/Frameworks/R.framework/Resources/bin/R CMD INSTALL scanMiRApp StartedAt: 2024-06-09 16:30:38 -0400 (Sun, 09 Jun 2024) EndedAt: 2024-06-09 16:31:48 -0400 (Sun, 09 Jun 2024) EllapsedTime: 70.3 seconds RetCode: 0 Status: OK