Package: scanMiRApp Version: 1.10.0 Command: /Library/Frameworks/R.framework/Resources/bin/R CMD INSTALL scanMiRApp StartedAt: 2024-10-16 17:29:35 -0400 (Wed, 16 Oct 2024) EndedAt: 2024-10-16 17:30:29 -0400 (Wed, 16 Oct 2024) EllapsedTime: 54.2 seconds RetCode: 0 Status: OK