Package: scanMiRApp Version: 1.10.0 Command: /Library/Frameworks/R.framework/Resources/bin/R CMD build --keep-empty-dirs --no-resave-data scanMiRApp StartedAt: 2024-10-17 08:20:15 -0400 (Thu, 17 Oct 2024) EndedAt: 2024-10-17 08:22:13 -0400 (Thu, 17 Oct 2024) EllapsedTime: 117.5 seconds RetCode: 0 Status: OK PackageFile: scanMiRApp_1.10.0.tar.gz PackageFileSize: 904.8 KiB