Package: scanMiR Version: 1.10.0 Command: E:\biocbuild\bbs-3.19-bioc\R\bin\R.exe CMD check --no-multiarch --install=check:scanMiR.install-out.txt --library=E:\biocbuild\bbs-3.19-bioc\R\library --no-vignettes --timings scanMiR_1.10.0.tar.gz StartedAt: 2024-10-17 05:22:50 -0400 (Thu, 17 Oct 2024) EndedAt: 2024-10-17 05:25:08 -0400 (Thu, 17 Oct 2024) EllapsedTime: 137.5 seconds RetCode: 0 Status: OK CheckDir: scanMiR.Rcheck Warnings: 0