Package: scanMiR Version: 1.10.0 Command: rm -rf scanMiR.buildbin-libdir && mkdir scanMiR.buildbin-libdir && E:\biocbuild\bbs-3.19-bioc\R\bin\R.exe CMD INSTALL --build --library=scanMiR.buildbin-libdir scanMiR_1.10.0.tar.gz StartedAt: 2024-10-17 08:34:04 -0400 (Thu, 17 Oct 2024) EndedAt: 2024-10-17 08:34:28 -0400 (Thu, 17 Oct 2024) EllapsedTime: 23.8 seconds RetCode: 0 Status: OK PackageFile: scanMiR_1.10.0.zip PackageFileSize: 1.261 MiB