Package: scanMiR Version: 1.10.0 Command: F:\biocbuild\bbs-3.19-bioc\R\bin\R.exe CMD INSTALL scanMiR StartedAt: 2024-06-26 16:01:53 -0400 (Wed, 26 Jun 2024) EndedAt: 2024-06-26 16:02:17 -0400 (Wed, 26 Jun 2024) EllapsedTime: 24.5 seconds RetCode: 0 Status: OK