Package: scanMiR Version: 1.10.0 Command: rm -rf scanMiR.buildbin-libdir && mkdir scanMiR.buildbin-libdir && F:\biocbuild\bbs-3.19-bioc\R\bin\R.exe CMD INSTALL --build --library=scanMiR.buildbin-libdir scanMiR_1.10.0.tar.gz StartedAt: 2024-06-27 08:51:37 -0400 (Thu, 27 Jun 2024) EndedAt: 2024-06-27 08:52:03 -0400 (Thu, 27 Jun 2024) EllapsedTime: 26.0 seconds RetCode: 0 Status: OK PackageFile: scanMiR_1.10.0.zip PackageFileSize: 1.261 MiB