Package: scanMiR Version: 1.10.0 Command: /Library/Frameworks/R.framework/Resources/bin/R CMD INSTALL scanMiR StartedAt: 2024-10-16 15:30:47 -0400 (Wed, 16 Oct 2024) EndedAt: 2024-10-16 15:31:24 -0400 (Wed, 16 Oct 2024) EllapsedTime: 37.9 seconds RetCode: 0 Status: OK