Package: scanMiR Version: 1.10.0 Command: /Library/Frameworks/R.framework/Resources/bin/R CMD build --keep-empty-dirs --no-resave-data scanMiR StartedAt: 2024-10-16 22:53:16 -0400 (Wed, 16 Oct 2024) EndedAt: 2024-10-16 22:54:23 -0400 (Wed, 16 Oct 2024) EllapsedTime: 67.2 seconds RetCode: 0 Status: OK PackageFile: scanMiR_1.10.0.tar.gz PackageFileSize: 1.062 MiB