Package: scanMiR Version: 1.10.0 Command: /home/biocbuild/R/R-beta-2024-04-15_r86425/bin/R CMD INSTALL scanMiR StartedAt: 2024-05-08 20:22:28 -0000 (Wed, 08 May 2024) EndedAt: 2024-05-08 20:22:51 -0000 (Wed, 08 May 2024) EllapsedTime: 22.6 seconds RetCode: 0 Status: OK