Package: scanMiR Version: 1.10.0 Command: /home/biocbuild/R/R-beta-2024-04-15_r86425/bin/R CMD build --keep-empty-dirs --no-resave-data scanMiR StartedAt: 2024-05-09 03:17:44 -0000 (Thu, 09 May 2024) EndedAt: 2024-05-09 03:18:20 -0000 (Thu, 09 May 2024) EllapsedTime: 36.1 seconds RetCode: 0 Status: OK PackageFile: scanMiR_1.10.0.tar.gz PackageFileSize: 1.062 MiB