Package: scanMiR Version: 1.10.0 Command: /Library/Frameworks/R.framework/Resources/bin/R CMD INSTALL scanMiR StartedAt: 2024-06-09 15:43:02 -0400 (Sun, 09 Jun 2024) EndedAt: 2024-06-09 15:43:27 -0400 (Sun, 09 Jun 2024) EllapsedTime: 24.5 seconds RetCode: 0 Status: OK