Package: scanMiR Version: 1.10.0 Command: /Library/Frameworks/R.framework/Resources/bin/R CMD build --keep-empty-dirs --no-resave-data scanMiR StartedAt: 2024-06-10 04:00:58 -0400 (Mon, 10 Jun 2024) EndedAt: 2024-06-10 04:02:14 -0400 (Mon, 10 Jun 2024) EllapsedTime: 76.2 seconds RetCode: 0 Status: OK PackageFile: scanMiR_1.10.0.tar.gz PackageFileSize: 1.059 MiB