Package: scanMiR Version: 1.10.0 Command: rm -rf scanMiR.buildbin-libdir && mkdir scanMiR.buildbin-libdir && /Users/biocbuild/BBS/utils/build-universal.sh scanMiR_1.10.0.tar.gz /Library/Frameworks/R.framework/Resources/bin/R scanMiR.buildbin-libdir StartedAt: 2024-06-11 13:02:38 -0400 (Tue, 11 Jun 2024) EndedAt: 2024-06-11 13:03:13 -0400 (Tue, 11 Jun 2024) EllapsedTime: 35.3 seconds RetCode: 0 Status: OK PackageFile: scanMiR_1.10.0.tgz PackageFileSize: 1.312 MiB